BEGIN:VCALENDAR
VERSION:2.0
PRODID:-//Ernährungscoaching Eva Hennes - ECPv6.15.20//NONSGML v1.0//EN
CALSCALE:GREGORIAN
METHOD:PUBLISH
X-WR-CALNAME:Ernährungscoaching Eva Hennes
X-ORIGINAL-URL:https://ernaehrungscoaching-hennes.de
X-WR-CALDESC:Veranstaltungen für Ernährungscoaching Eva Hennes
REFRESH-INTERVAL;VALUE=DURATION:PT1H
X-Robots-Tag:noindex
X-PUBLISHED-TTL:PT1H
BEGIN:VTIMEZONE
TZID:Europe/Berlin
BEGIN:DAYLIGHT
TZOFFSETFROM:+0100
TZOFFSETTO:+0200
TZNAME:CEST
DTSTART:20250330T010000
END:DAYLIGHT
BEGIN:STANDARD
TZOFFSETFROM:+0200
TZOFFSETTO:+0100
TZNAME:CET
DTSTART:20251026T010000
END:STANDARD
BEGIN:DAYLIGHT
TZOFFSETFROM:+0100
TZOFFSETTO:+0200
TZNAME:CEST
DTSTART:20260329T010000
END:DAYLIGHT
BEGIN:STANDARD
TZOFFSETFROM:+0200
TZOFFSETTO:+0100
TZNAME:CET
DTSTART:20261025T010000
END:STANDARD
BEGIN:DAYLIGHT
TZOFFSETFROM:+0100
TZOFFSETTO:+0200
TZNAME:CEST
DTSTART:20270328T010000
END:DAYLIGHT
BEGIN:STANDARD
TZOFFSETFROM:+0200
TZOFFSETTO:+0100
TZNAME:CET
DTSTART:20271031T010000
END:STANDARD
END:VTIMEZONE
BEGIN:VEVENT
DTSTART;TZID=Europe/Berlin:20260423T170000
DTEND;TZID=Europe/Berlin:20260423T203000
DTSTAMP:20260423T013807
CREATED:20251201T100703Z
LAST-MODIFIED:20260331T194730Z
UID:1826-1776963600-1776976200@ernaehrungscoaching-hennes.de
SUMMARY:Hippe Stulle und kunterbunte Salate
DESCRIPTION:Stulle\, Knifte\, Butterbot … alles Bezeichnungen\, die ein- und dasselbe meinen: ein Brot\, belegt mit Käse oder Wurst.\nIn diesem Kurs wird es kreativer auf dem Brot!\nWir werden verschiedene bunte und ausgewogene Kreationen zusammenstellen. Aufstriche\, Gemüse\, Hülsenfrüchte\, Sprossen und Obst machen das Brot zu einer „hippen Stulle“.\nDas verwendete Brot ist selbstgebacken.\nZum Brot gesellt sich der ein oder andere Salat\, der auch für die kommende Grillsaison taugt. \nDas erwartet Sie: \n• eine kleine köstliche Überraschung direkt zu Beginn\n• gemeinsames Zubereiten von mir eigens kreierter\, leckerer Rezepte (vegetarischer\, teilweise vegan)\n• gemeinsames Genießen der kulinarischen Resultate\n• schönes Ambiente\, meine ganz individuell gestaltete Kursküche\n• 3\,5 Stunden\, 8-10 Teilnehmer\n• Lebensmittel und Getränke sind im Preis inbegriffen \nNachhaltigkeit und Vollwertigkeit liegen mir am Herzen. Daher stammen die verwendeten Lebensmittel überwiegned aus biologischer Herkunft.
URL:https://ernaehrungscoaching-hennes.de/termin/hippe-stulle/
LOCATION:Kurs- und Beratungsküche „clever essen“\, Winterberger Str. 40\, Lennestadt (Saalhausen)\, 57368
CATEGORIES:Kochen für Erwachsene
ATTACH;FMTTYPE=image/jpeg:https://ernaehrungscoaching-hennes.de/wp-content/uploads/2025/12/Stulle-rotated-e1774986443454.jpg
ORGANIZER;CN="Eva Hennes":MAILTO:info@eva-hennes.de
END:VEVENT
END:VCALENDAR